BEGIN:VCALENDAR
VERSION:2.0
PRODID:-//Cypress British Car Club of Monterey - ECPv6.15.18//NONSGML v1.0//EN
CALSCALE:GREGORIAN
METHOD:PUBLISH
X-ORIGINAL-URL:https://cypressbritish.com
X-WR-CALDESC:Events for Cypress British Car Club of Monterey
REFRESH-INTERVAL;VALUE=DURATION:PT1H
X-Robots-Tag:noindex
X-PUBLISHED-TTL:PT1H
BEGIN:VTIMEZONE
TZID:America/Los_Angeles
BEGIN:DAYLIGHT
TZOFFSETFROM:-0800
TZOFFSETTO:-0700
TZNAME:PDT
DTSTART:20250309T100000
END:DAYLIGHT
BEGIN:STANDARD
TZOFFSETFROM:-0700
TZOFFSETTO:-0800
TZNAME:PST
DTSTART:20251102T090000
END:STANDARD
BEGIN:DAYLIGHT
TZOFFSETFROM:-0800
TZOFFSETTO:-0700
TZNAME:PDT
DTSTART:20260308T100000
END:DAYLIGHT
BEGIN:STANDARD
TZOFFSETFROM:-0700
TZOFFSETTO:-0800
TZNAME:PST
DTSTART:20261101T090000
END:STANDARD
BEGIN:DAYLIGHT
TZOFFSETFROM:-0800
TZOFFSETTO:-0700
TZNAME:PDT
DTSTART:20270314T100000
END:DAYLIGHT
BEGIN:STANDARD
TZOFFSETFROM:-0700
TZOFFSETTO:-0800
TZNAME:PST
DTSTART:20271107T090000
END:STANDARD
END:VTIMEZONE
BEGIN:VEVENT
DTSTART;TZID=America/Los_Angeles:20260429T100000
DTEND;TZID=America/Los_Angeles:20260429T150000
DTSTAMP:20260423T103451
CREATED:20250119T183913Z
LAST-MODIFIED:20260121T153931Z
UID:3797-1777456800-1777474800@cypressbritish.com
SUMMARY:Rancho Cielo Classic Car Restoration Tour and Lunch
DESCRIPTION:  \nDrive up to Rancho Cielo and take a tour of the campus with an emphasis on the Classic Car Restoration Facility and then have a BBQ lunch afterwards. $65 per person. This is a combined event with sister car clubs\, PBSCC\, Santa Cruz British Sports Car Club\, Jaguar Club\, Corvette Club of Monterey and maybe more. \nWagonmaster – Kristan Neubecker \nFor More information and to sign up for this event\, click here. 
URL:https://cypressbritish.com/event/rancho-cielo-classic-car-restoration-tour-some-saturday-in-april-tbd/
LOCATION:Rancho Cielo Youth Campus\, 710 Old Stage Road\, Salinas\, CA\, 93908
CATEGORIES:Driving Trip
ATTACH;FMTTYPE=image/png:https://cypressbritish.com/wp-content/uploads/2025/01/Rancho-Cielo-Logo.png
ORGANIZER;CN="Kristan Neubecker":MAILTO:info@montereybritish.com
END:VEVENT
END:VCALENDAR