BEGIN:VCALENDAR
VERSION:2.0
PRODID:-//Cypress British Car Club of Monterey - ECPv6.15.18//NONSGML v1.0//EN
CALSCALE:GREGORIAN
METHOD:PUBLISH
X-ORIGINAL-URL:https://cypressbritish.com
X-WR-CALDESC:Events for Cypress British Car Club of Monterey
REFRESH-INTERVAL;VALUE=DURATION:PT1H
X-Robots-Tag:noindex
X-PUBLISHED-TTL:PT1H
BEGIN:VTIMEZONE
TZID:America/Los_Angeles
BEGIN:DAYLIGHT
TZOFFSETFROM:-0800
TZOFFSETTO:-0700
TZNAME:PDT
DTSTART:20240310T100000
END:DAYLIGHT
BEGIN:STANDARD
TZOFFSETFROM:-0700
TZOFFSETTO:-0800
TZNAME:PST
DTSTART:20241103T090000
END:STANDARD
BEGIN:DAYLIGHT
TZOFFSETFROM:-0800
TZOFFSETTO:-0700
TZNAME:PDT
DTSTART:20250309T100000
END:DAYLIGHT
BEGIN:STANDARD
TZOFFSETFROM:-0700
TZOFFSETTO:-0800
TZNAME:PST
DTSTART:20251102T090000
END:STANDARD
BEGIN:DAYLIGHT
TZOFFSETFROM:-0800
TZOFFSETTO:-0700
TZNAME:PDT
DTSTART:20260308T100000
END:DAYLIGHT
BEGIN:STANDARD
TZOFFSETFROM:-0700
TZOFFSETTO:-0800
TZNAME:PST
DTSTART:20261101T090000
END:STANDARD
END:VTIMEZONE
BEGIN:VEVENT
DTSTART;TZID=America/Los_Angeles:20250926T160000
DTEND;TZID=America/Los_Angeles:20250926T190000
DTSTAMP:20260423T120938
CREATED:20250923T161022Z
LAST-MODIFIED:20250923T161022Z
UID:4570-1758902400-1758913200@cypressbritish.com
SUMMARY:Hot Cars and Cool Nights - Last Show of the Year featuring British Cars
DESCRIPTION:Join us for the last show of the year featuring British Cars.  \nWe will meet in the London Bridge Pub and caravan over at 4:00 and leave by 4:15 pm.  \nBring your folding Chair(s) and RSVP if you will meeting us to caravan over.  \nPlease enable JavaScript in your browser to complete this form.Name *FirstLastEmail *PhoneType of Meeting I will be attending *Membership MeetingCBCCoM Event/DriveName of Meeting/Event *Date / TimeDateTimeAre you attending? *YesNoMaybeAre you bringing a guest?YesNoGuest NameFirstLastComment or MessageSubmit
URL:https://cypressbritish.com/event/hot-cars-and-cool-nights-last-show-of-the-year-featuring-british-cars/
LOCATION:London Bridge Pub\, 256 Figueroa St\, Wharf #2\, Monterey\, CA\, 93940
CATEGORIES:Car Show
ATTACH;FMTTYPE=image/jpeg:https://cypressbritish.com/wp-content/uploads/2025/05/Hot-Cars-and-Cool-Nights-2025.jpeg
ORGANIZER;CN="Steve Kellogg":MAILTO:president@cypressbritish.com
END:VEVENT
BEGIN:VEVENT
DTSTART;TZID=America/Los_Angeles:20250829T160000
DTEND;TZID=America/Los_Angeles:20250829T200000
DTSTAMP:20260423T120938
CREATED:20250507T152724Z
LAST-MODIFIED:20250507T152724Z
UID:4041-1756483200-1756497600@cypressbritish.com
SUMMARY:Hot Cars and Cool Nights
DESCRIPTION:Click Here for the Flyer
URL:https://cypressbritish.com/event/hot-cars-and-cool-nights-3/
LOCATION:CA
CATEGORIES:Car Show
ATTACH;FMTTYPE=image/jpeg:https://cypressbritish.com/wp-content/uploads/2025/05/Hot-Cars-and-Cool-Nights-2025.jpeg
END:VEVENT
BEGIN:VEVENT
DTSTART;VALUE=DATE:20250810
DTEND;VALUE=DATE:20250812
DTSTAMP:20260423T120938
CREATED:20241209T152747Z
LAST-MODIFIED:20250519T201457Z
UID:3737-1754784000-1754956799@cypressbritish.com
SUMMARY:Pebble Beach British Experience and Monterey British Car Show
DESCRIPTION:The second annual Monterey British is coming up Monday\, August 11th\, 2025\, at the same location in beautiful Carmel Valley. Registration will open Saturday\, February 1st through www.jags.org \n  \nThis year we will be asking for your mailing address so we can send your field pass (a static cling decal you’ll attach to your windshield).  We won’t be sharing that information with anyone as I hate spam just as much\, if not more than you!  \n  \nSome of the fun you can look forward to will be awards for each marque present with a category of at least four cars. Also\, Monday is a dark day at Laguna Seca so we are hoping to have a special visit with some of the Del Monte Trophy Racers. Additionally\, we are working with Jerome’s Market for a special pick up a picnic to go option. Stay tuned for more information and fun announcements as we get closer.  \n  \nSunday\, August 10th we are offering a special day in Pebble Beach with rolling photos and lunch at a private\, special location.  Registration also opens February 1st for the “Pebble Beach British” through www.jags.org \n \nWe are extremely excited to be returning British events to Car Week and look forward to celebrating with you!  \n  \nAs always\, please feel free to reach out at any time with any questions and yes\, please tell all your friends about our British weekend\, but only after you’ve claimed your spot first 😉  \n 
URL:https://cypressbritish.com/event/pebble-beach-british-experience-and-british-car-show/
LOCATION:Carmel Valley Comunity Park\, 29 Ford Road\, Carmel Valley\, CA\, 93924
CATEGORIES:Car Show,Driving Trip
ATTACH;FMTTYPE=image/jpeg:https://cypressbritish.com/wp-content/uploads/2024/12/August-25-British.jpg
ORGANIZER;CN="Jaguar Associate Group Northern CA":MAILTO:info@jags.org
END:VEVENT
BEGIN:VEVENT
DTSTART;VALUE=DATE:20250808
DTEND;VALUE=DATE:20250818
DTSTAMP:20260423T120938
CREATED:20240130T224058Z
LAST-MODIFIED:20250119T192905Z
UID:3491-1754611200-1755475199@cypressbritish.com
SUMMARY:Monterey Car Week
DESCRIPTION:What can we say? \nHow many events will you attend?
URL:https://cypressbritish.com/event/monterey-car-week/
LOCATION:CA
CATEGORIES:Car Show
ATTACH;FMTTYPE=image/jpeg:https://cypressbritish.com/wp-content/uploads/2024/01/Car-week-Overview.jpeg
END:VEVENT
BEGIN:VEVENT
DTSTART;TZID=America/Los_Angeles:20250725T160000
DTEND;TZID=America/Los_Angeles:20250725T200000
DTSTAMP:20260423T120938
CREATED:20250507T152442Z
LAST-MODIFIED:20250507T152535Z
UID:4037-1753459200-1753473600@cypressbritish.com
SUMMARY:Hot Cars and Cool Nights
DESCRIPTION:Click Here for the Flyer
URL:https://cypressbritish.com/event/hot-cars-and-cool-nights-2/
LOCATION:CA
CATEGORIES:Car Show
ATTACH;FMTTYPE=image/jpeg:https://cypressbritish.com/wp-content/uploads/2025/05/Hot-Cars-and-Cool-Nights-2025.jpeg
END:VEVENT
BEGIN:VEVENT
DTSTART;TZID=America/Los_Angeles:20250719T070000
DTEND;TZID=America/Los_Angeles:20250719T100000
DTSTAMP:20260423T120938
CREATED:20240116T170219Z
LAST-MODIFIED:20250119T191449Z
UID:3429-1752908400-1752919200@cypressbritish.com
SUMMARY:Laguna Seca Cars and Coffee
DESCRIPTION:Plan to arrive by 7:00 am to get a good space on the island. Let’s keep those other marques out and fill all the spots. \n \nPlease enable JavaScript in your browser to complete this form.Name *FirstLastEmail *PhoneType of Meeting I will be attending *Membership MeetingCBCCoM Event/DriveName of Meeting/Event *Date / TimeDateTimeAre you attending? *YesNoMaybeAre you bringing a guest?YesNoGuest NameFirstLastComment or MessageSubmit
URL:https://cypressbritish.com/event/laguna-seca-cars-and-coffee/
LOCATION:CA
CATEGORIES:Car Show,Cars and Coffee
ATTACH;FMTTYPE=image/png:https://cypressbritish.com/wp-content/uploads/2023/02/Screenshot-2023-02-25-at-12.01.43-PM.png
END:VEVENT
BEGIN:VEVENT
DTSTART;TZID=America/Los_Angeles:20250627T160000
DTEND;TZID=America/Los_Angeles:20250627T200000
DTSTAMP:20260423T120938
CREATED:20250507T152136Z
LAST-MODIFIED:20250507T152612Z
UID:4031-1751040000-1751054400@cypressbritish.com
SUMMARY:Hot Cars and Cool Nights
DESCRIPTION:Click Here for the Flyer \n 
URL:https://cypressbritish.com/event/hot-cars-and-cool-nights/
LOCATION:CA
CATEGORIES:Car Show
ATTACH;FMTTYPE=image/jpeg:https://cypressbritish.com/wp-content/uploads/2025/05/Hot-Cars-and-Cool-Nights-2025.jpeg
END:VEVENT
BEGIN:VEVENT
DTSTART;VALUE=DATE:20250622
DTEND;VALUE=DATE:20250623
DTSTAMP:20260423T120938
CREATED:20250119T191055Z
LAST-MODIFIED:20250119T191312Z
UID:3807-1750550400-1750636799@cypressbritish.com
SUMMARY:Classic Sports Racing Group (CSRG) at Laguna Seca
DESCRIPTION:Spend a day at Laguna Seca watching Classic Cars race around the track. \nDrive your British Car to park in a British Car Corral \nCoordinator – John Tennyson \nPlease enable JavaScript in your browser to complete this form.Name *FirstLastEmail *PhoneType of Meeting I will be attending *Membership MeetingCBCCoM Event/DriveName of Meeting/Event *Date / TimeDateTimeAre you attending? *YesNoMaybeAre you bringing a guest?YesNoGuest NameFirstLastComment or MessageSubmit
URL:https://cypressbritish.com/event/classic-sports-racing-group-csrg-at-laguna-seca/
LOCATION:WeatherTech Raceway Laguna Seca\, 1021 Monterey-Salinas Highway\, Salinas\, CA\, 93908
CATEGORIES:Car Show
ATTACH;FMTTYPE=image/jpeg:https://cypressbritish.com/wp-content/uploads/2025/01/CSRG.jpeg
END:VEVENT
END:VCALENDAR