BEGIN:VCALENDAR
VERSION:2.0
PRODID:-//Cypress British Car Club of Monterey - ECPv6.15.18//NONSGML v1.0//EN
CALSCALE:GREGORIAN
METHOD:PUBLISH
X-WR-CALNAME:Cypress British Car Club of Monterey
X-ORIGINAL-URL:https://cypressbritish.com
X-WR-CALDESC:Events for Cypress British Car Club of Monterey
REFRESH-INTERVAL;VALUE=DURATION:PT1H
X-Robots-Tag:noindex
X-PUBLISHED-TTL:PT1H
BEGIN:VTIMEZONE
TZID:America/Los_Angeles
BEGIN:DAYLIGHT
TZOFFSETFROM:-0800
TZOFFSETTO:-0700
TZNAME:PDT
DTSTART:20240310T100000
END:DAYLIGHT
BEGIN:STANDARD
TZOFFSETFROM:-0700
TZOFFSETTO:-0800
TZNAME:PST
DTSTART:20241103T090000
END:STANDARD
BEGIN:DAYLIGHT
TZOFFSETFROM:-0800
TZOFFSETTO:-0700
TZNAME:PDT
DTSTART:20250309T100000
END:DAYLIGHT
BEGIN:STANDARD
TZOFFSETFROM:-0700
TZOFFSETTO:-0800
TZNAME:PST
DTSTART:20251102T090000
END:STANDARD
BEGIN:DAYLIGHT
TZOFFSETFROM:-0800
TZOFFSETTO:-0700
TZNAME:PDT
DTSTART:20260308T100000
END:DAYLIGHT
BEGIN:STANDARD
TZOFFSETFROM:-0700
TZOFFSETTO:-0800
TZNAME:PST
DTSTART:20261101T090000
END:STANDARD
BEGIN:DAYLIGHT
TZOFFSETFROM:-0800
TZOFFSETTO:-0700
TZNAME:PDT
DTSTART:20270314T100000
END:DAYLIGHT
BEGIN:STANDARD
TZOFFSETFROM:-0700
TZOFFSETTO:-0800
TZNAME:PST
DTSTART:20271107T090000
END:STANDARD
END:VTIMEZONE
BEGIN:VEVENT
DTSTART;TZID=America/Los_Angeles:20260420T180000
DTEND;TZID=America/Los_Angeles:20260420T200000
DTSTAMP:20260423T120937
CREATED:20240115T184432Z
LAST-MODIFIED:20260119T200609Z
UID:3409-1776708000-1776715200@cypressbritish.com
SUMMARY:CBCCoM Meeting
DESCRIPTION:Our April meeting will be back at the London Bridge Pub  \nPlease enable JavaScript in your browser to complete this form.Name *FirstLastEmail *PhoneType of Meeting I will be attending *Membership MeetingCBCCoM Event/DriveName of Meeting/Event *Date / TimeDateTimeAre you attending? *YesNoMaybeAre you bringing a guest?YesNoGuest NameFirstLastComment or MessageSubmit  \n 
URL:https://cypressbritish.com/event/cbccom-meeting-with-a-pre-drive-tbd/
LOCATION:Kellogg House\, 4096 Sunset Ln.\, Pebble Beach\, CA\, 93953
CATEGORIES:Club Meetings,Driving Trip
ATTACH;FMTTYPE=image/png:https://cypressbritish.com/wp-content/uploads/2023/08/London-Bridge-Pub-Logo.png
ORGANIZER;CN="Steve Kellogg":MAILTO:president@cypressbritish.com
END:VEVENT
BEGIN:VEVENT
DTSTART;TZID=America/Los_Angeles:20260316T180000
DTEND;TZID=America/Los_Angeles:20260316T200000
DTSTAMP:20260423T120937
CREATED:20240115T174127Z
LAST-MODIFIED:20260119T195310Z
UID:3390-1773684000-1773691200@cypressbritish.com
SUMMARY:CBCCoM Meeting
DESCRIPTION:  \nThe Meeting will start at 6:00 pm. \nPlease enable JavaScript in your browser to complete this form.Name *FirstLastEmail *PhoneType of Meeting I will be attending *Membership MeetingCBCCoM Event/DriveName of Meeting/Event *Date / TimeDateTimeAre you attending? *YesNoMaybeAre you bringing a guest?YesNoGuest NameFirstLastComment or MessageSubmit
URL:https://cypressbritish.com/event/cbccom-meeting/
LOCATION:London Bridge Pub\, 256 Figueroa St\, Wharf #2\, Monterey\, CA\, 93940
CATEGORIES:Club Meetings,Driving Trip
ATTACH;FMTTYPE=image/png:https://cypressbritish.com/wp-content/uploads/2023/08/London-Bridge-Pub-Logo.png
ORGANIZER;CN="Steve Kellogg":MAILTO:president@cypressbritish.com
END:VEVENT
BEGIN:VEVENT
DTSTART;TZID=America/Los_Angeles:20260216T180000
DTEND;TZID=America/Los_Angeles:20260216T200000
DTSTAMP:20260423T120937
CREATED:20240115T174527Z
LAST-MODIFIED:20260119T195129Z
UID:3393-1771264800-1771272000@cypressbritish.com
SUMMARY:CBCCoM Club Meeting
DESCRIPTION:Our second members meeting of the year will be at our favorite British Pub in Monterey \nTopics will include a review of this years upcoming events and future direction of the club. \nPlease enable JavaScript in your browser to complete this form.Name *FirstLastEmail *PhoneType of Meeting I will be attending *Membership MeetingCBCCoM Event/DriveName of Meeting/Event *Date / TimeDateTimeAre you attending? *YesNoMaybeAre you bringing a guest?YesNoGuest NameFirstLastComment or MessageSubmit
URL:https://cypressbritish.com/event/cbccom-club-meeting/
LOCATION:London Bridge Pub\, 256 Figueroa St\, Wharf #2\, Monterey\, CA\, 93940
CATEGORIES:Club Meetings
ATTACH;FMTTYPE=image/png:https://cypressbritish.com/wp-content/uploads/2023/08/London-Bridge-Pub-Logo.png
ORGANIZER;CN="Steve Kellogg":MAILTO:president@cypressbritish.com
END:VEVENT
BEGIN:VEVENT
DTSTART;TZID=America/Los_Angeles:20260119T180000
DTEND;TZID=America/Los_Angeles:20260119T200000
DTSTAMP:20260423T120937
CREATED:20250119T205957Z
LAST-MODIFIED:20250126T183341Z
UID:3841-1768845600-1768852800@cypressbritish.com
SUMMARY:CBCCoM Membership Meeting
DESCRIPTION:First Meeting of the Year
URL:https://cypressbritish.com/event/cbccom-mmebership-meeting/
LOCATION:London Bridge Pub\, 256 Figueroa St\, Wharf #2\, Monterey\, CA\, 93940
CATEGORIES:Club Meetings
ATTACH;FMTTYPE=image/png:https://cypressbritish.com/wp-content/uploads/2023/08/London-Bridge-Pub-Logo.png
ORGANIZER;CN="Steve Kellogg":MAILTO:president@cypressbritish.com
END:VEVENT
BEGIN:VEVENT
DTSTART;TZID=America/Los_Angeles:20251002T180000
DTEND;TZID=America/Los_Angeles:20251002T200000
DTSTAMP:20260423T120937
CREATED:20250923T161907Z
LAST-MODIFIED:20250923T162101Z
UID:4573-1759428000-1759435200@cypressbritish.com
SUMMARY:Planning and Feasibility Session for 2026 British Car Show
DESCRIPTION:Join Kristan Neubecker at the London Bridge Pub Meeting Room.  \nShe will be explaining how the show works and the tasks that need to be completed by a committee of Cypress British Car Club Members. \nPlease enable JavaScript in your browser to complete this form.Name *FirstLastEmail *PhoneType of Meeting I will be attending *Membership MeetingCBCCoM Event/DriveName of Meeting/Event *Date / TimeDateTimeAre you attending? *YesNoMaybeAre you bringing a guest?YesNoGuest NameFirstLastComment or MessageSubmit
URL:https://cypressbritish.com/event/planning-and-feasibility-session-for-2026-british-car-show/
LOCATION:London Bridge Pub\, 256 Figueroa St\, Wharf #2\, Monterey\, CA\, 93940
CATEGORIES:Club Meetings
ATTACH;FMTTYPE=image/png:https://cypressbritish.com/wp-content/uploads/2025/09/MB-26-date.png
ORGANIZER;CN="Kristan Neubecker":MAILTO:info@montereybritish.com
END:VEVENT
BEGIN:VEVENT
DTSTART;TZID=America/Los_Angeles:20250721T180000
DTEND;TZID=America/Los_Angeles:20250721T200000
DTSTAMP:20260423T120937
CREATED:20240130T222611Z
LAST-MODIFIED:20250119T191851Z
UID:3484-1753120800-1753128000@cypressbritish.com
SUMMARY:CBCCoM Club Meeting and Potluck
DESCRIPTION:This will be a fun meeting as our Hosts\, Fred and Lorie Saunders are planning an authentic British Potluck at hteir house off of River Road. \nFood Items to bring need to be British in nature. \nDan O’Brien will be setting up the Blog/Food Sign up Process \nPlease enable JavaScript in your browser to complete this form.Name *FirstLastEmail *PhoneType of Meeting I will be attending *Membership MeetingCBCCoM Event/DriveName of Meeting/Event *Date / TimeDateTimeAre you attending? *YesNoMaybeAre you bringing a guest?YesNoGuest NameFirstLastComment or MessageSubmit  \n  \n 
URL:https://cypressbritish.com/event/cbccom-club-meeting-and-potluck-with-a-short-pre-drive/
LOCATION:Saunder’s House\, 19015 Buena Lane\, Salinas\, CA\, 93908
CATEGORIES:Club Meetings
ATTACH;FMTTYPE=image/png:https://cypressbritish.com/wp-content/uploads/2023/02/British-Flag-1.png
ORGANIZER;CN="Steve Kellogg":MAILTO:president@cypressbritish.com
END:VEVENT
END:VCALENDAR