BEGIN:VCALENDAR
VERSION:2.0
PRODID:-//Cypress British Car Club of Monterey - ECPv6.15.18//NONSGML v1.0//EN
CALSCALE:GREGORIAN
METHOD:PUBLISH
X-ORIGINAL-URL:https://cypressbritish.com
X-WR-CALDESC:Events for Cypress British Car Club of Monterey
REFRESH-INTERVAL;VALUE=DURATION:PT1H
X-Robots-Tag:noindex
X-PUBLISHED-TTL:PT1H
BEGIN:VTIMEZONE
TZID:America/Los_Angeles
BEGIN:DAYLIGHT
TZOFFSETFROM:-0800
TZOFFSETTO:-0700
TZNAME:PDT
DTSTART:20250309T100000
END:DAYLIGHT
BEGIN:STANDARD
TZOFFSETFROM:-0700
TZOFFSETTO:-0800
TZNAME:PST
DTSTART:20251102T090000
END:STANDARD
BEGIN:DAYLIGHT
TZOFFSETFROM:-0800
TZOFFSETTO:-0700
TZNAME:PDT
DTSTART:20260308T100000
END:DAYLIGHT
BEGIN:STANDARD
TZOFFSETFROM:-0700
TZOFFSETTO:-0800
TZNAME:PST
DTSTART:20261101T090000
END:STANDARD
BEGIN:DAYLIGHT
TZOFFSETFROM:-0800
TZOFFSETTO:-0700
TZNAME:PDT
DTSTART:20270314T100000
END:DAYLIGHT
BEGIN:STANDARD
TZOFFSETFROM:-0700
TZOFFSETTO:-0800
TZNAME:PST
DTSTART:20271107T090000
END:STANDARD
END:VTIMEZONE
BEGIN:VEVENT
DTSTART;TZID=America/Los_Angeles:20260502T090000
DTEND;TZID=America/Los_Angeles:20260502T170000
DTSTAMP:20260423T133941
CREATED:20260119T203222Z
LAST-MODIFIED:20260326T194146Z
UID:4744-1777712400-1777741200@cypressbritish.com
SUMMARY:Mission San Juan Bautista Tour
DESCRIPTION:Club Member\, Mike Romo has set up a tour of the Mission San Juan Bautista.  \nWe’ll meet at Fred and Lorie Saunders House off of Rio Road in Salinas. Fred will lead us to the Mission via the back roads.  \nHere is the itinerary:  \n1.  Club members participating in the Mission tour should be gathered together to start the tour at 11 a.m. so folks can have lunch about an hour and a half later.  We will allow time for people to to park their cars\, get a group photo\, have a bathroom break\, and gather together to take the tour.   (The tour will start at 11 a.m.)\n \n2.  Deacon Jewel Sean Gentry\, Executive Director of the Mission San Juan Bautista Preservation Fund\, who will lead the tour\, will set aside an area for us to park our cars.  It will probably be in front of the Casa Maria building in back of the Mission.  \n \n3.  The private tour of the Mission church and the Museum will last approximately an hour.  The tour will end at the Gift Shop where there are restrooms nearby.  We will have a  30 minutes for a bathroom break and a brief gift shop visit for those that are interested.  \n \n4.  Those staying for lunch will walk to the Jardines de San Juan\, a good Mexican restaurant for the no-host lunch.  There is outdoor and indoor seating at tables.  I would expect lunch to be over by 1:30.  (Please RSVP so we can give the restaurant a good head count.)\n \n5.  Following lunch\, participants will leave for home or return to the Mission to spend more time in the Mission church\, the museum\, or the grounds.  They could also visit the nearby San Juan Bautista State Park\, which has interesting exhibits to see and is just across from the Mission’s entrance plaza.\nPlease enable JavaScript in your browser to complete this form.Name *FirstLastEmail *PhoneType of Meeting I will be attending *Membership MeetingCBCCoM Event/DriveName of Meeting/Event *Date / TimeDateTimeAre you attending? *YesNoMaybeAre you bringing a guest?YesNoGuest NameFirstLastComment or MessageSubmit  \n 
URL:https://cypressbritish.com/event/mission-san-juan-bautista-tour/
LOCATION:Saunder’s House\, 19015 Buena Lane\, Salinas\, CA\, 93908
CATEGORIES:Driving Trip
ATTACH;FMTTYPE=image/png:https://cypressbritish.com/wp-content/uploads/2026/01/SJ-Bautista-Logo-1.png
ORGANIZER;CN="Mike Romo":MAILTO:mikeromomg@gmail.com
END:VEVENT
BEGIN:VEVENT
DTSTART;TZID=America/Los_Angeles:20260516T070000
DTEND;TZID=America/Los_Angeles:20260516T170000
DTSTAMP:20260423T133941
CREATED:20260119T204822Z
LAST-MODIFIED:20260119T204822Z
UID:4752-1778914800-1778950800@cypressbritish.com
SUMMARY:Spring Fling Drive
DESCRIPTION:Leave from Baja Cantina and drive through the back roads of Monterey County.  \nThis event is bought to us by our friends at The Del Monte Auto ClubPlease enable JavaScript in your browser to complete this form.Name *FirstLastEmail *PhoneType of Meeting I will be attending *Membership MeetingCBCCoM Event/DriveName of Meeting/Event *Date / TimeDateTimeAre you attending? *YesNoMaybeAre you bringing a guest?YesNoGuest NameFirstLastComment or MessageSubmit
URL:https://cypressbritish.com/event/spring-fling-drive/
LOCATION:Baja Cantina\, 7166 Carmel Valley Rd\, Carmel\, CA\, 93923
CATEGORIES:Driving Trip
ATTACH;FMTTYPE=image/jpeg:https://cypressbritish.com/wp-content/uploads/2024/01/Baja-Cantina.jpeg
ORGANIZER;CN="Del Monte Auto Club":MAILTO:delmonteautoclub@gmail.com
END:VEVENT
BEGIN:VEVENT
DTSTART;TZID=America/Los_Angeles:20260518T160000
DTEND;TZID=America/Los_Angeles:20260518T200000
DTSTAMP:20260423T133941
CREATED:20240130T172135Z
LAST-MODIFIED:20260119T204948Z
UID:3470-1779120000-1779134400@cypressbritish.com
SUMMARY:CBCCoM Meeting
DESCRIPTION:Our May meeting will be at the London Bridge Pub  \nPlease enable JavaScript in your browser to complete this form.Name *FirstLastEmail *PhoneType of Meeting I will be attending *Membership MeetingCBCCoM Event/DriveName of Meeting/Event *Date / TimeDateTimeAre you attending? *YesNoMaybeAre you bringing a guest?YesNoGuest NameFirstLastComment or MessageSubmit
URL:https://cypressbritish.com/event/cbccom-meeting-with-a-pre-drive/
LOCATION:London Bridge Pub\, 256 Figueroa St\, Wharf #2\, Monterey\, CA\, 93940
CATEGORIES:Club Meetings,Driving Trip
ATTACH;FMTTYPE=image/png:https://cypressbritish.com/wp-content/uploads/2023/08/London-Bridge-Pub-Logo.png
ORGANIZER;CN="Steve Kellogg":MAILTO:president@cypressbritish.com
END:VEVENT
END:VCALENDAR