BEGIN:VCALENDAR
VERSION:2.0
PRODID:-//Cypress British Car Club of Monterey - ECPv6.15.18//NONSGML v1.0//EN
CALSCALE:GREGORIAN
METHOD:PUBLISH
X-ORIGINAL-URL:https://cypressbritish.com
X-WR-CALDESC:Events for Cypress British Car Club of Monterey
REFRESH-INTERVAL;VALUE=DURATION:PT1H
X-Robots-Tag:noindex
X-PUBLISHED-TTL:PT1H
BEGIN:VTIMEZONE
TZID:America/Los_Angeles
BEGIN:DAYLIGHT
TZOFFSETFROM:-0800
TZOFFSETTO:-0700
TZNAME:PDT
DTSTART:20250309T100000
END:DAYLIGHT
BEGIN:STANDARD
TZOFFSETFROM:-0700
TZOFFSETTO:-0800
TZNAME:PST
DTSTART:20251102T090000
END:STANDARD
BEGIN:DAYLIGHT
TZOFFSETFROM:-0800
TZOFFSETTO:-0700
TZNAME:PDT
DTSTART:20260308T100000
END:DAYLIGHT
BEGIN:STANDARD
TZOFFSETFROM:-0700
TZOFFSETTO:-0800
TZNAME:PST
DTSTART:20261101T090000
END:STANDARD
BEGIN:DAYLIGHT
TZOFFSETFROM:-0800
TZOFFSETTO:-0700
TZNAME:PDT
DTSTART:20270314T100000
END:DAYLIGHT
BEGIN:STANDARD
TZOFFSETFROM:-0700
TZOFFSETTO:-0800
TZNAME:PST
DTSTART:20271107T090000
END:STANDARD
END:VTIMEZONE
BEGIN:VEVENT
DTSTART;VALUE=DATE:20260617
DTEND;VALUE=DATE:20260618
DTSTAMP:20260423T151235
CREATED:20260123T161112Z
LAST-MODIFIED:20260123T161333Z
UID:4762-1781654400-1781740799@cypressbritish.com
SUMMARY:Big Sur Drive to Cambria
DESCRIPTION:Now that the Big Sur Highway 1 stretch has been reopened for awhile\, it is time to take our British Rides down to Cambria and back.  \nThe plan is to leave by 9:00 am from The Crossroads\, have lunch in Cambria ( your choice) and drive back in the same day. (your choice as you may want to spend the night and drive back the following morning) \nPlease enable JavaScript in your browser to complete this form.Name *FirstLastEmail *PhoneType of Meeting I will be attending *Membership MeetingCBCCoM Event/DriveName of Meeting/Event *Date / TimeDateTimeAre you attending? *YesNoMaybeAre you bringing a guest?YesNoGuest NameFirstLastComment or MessageSubmit
URL:https://cypressbritish.com/event/big-sur-drive-to-cambria/
LOCATION:Starbucks at the Carmel Crossroads\, 3650 Rio Rd\, Carmel-By-The-Sea\, CA\, 93923
CATEGORIES:Driving Trip
ATTACH;FMTTYPE=image/jpeg:https://cypressbritish.com/wp-content/uploads/2026/01/Bixby-Bridge-painting.jpeg
ORGANIZER;CN="Steve Kellogg":MAILTO:president@cypressbritish.com
END:VEVENT
END:VCALENDAR