BEGIN:VCALENDAR
VERSION:2.0
PRODID:-//Cypress British Car Club of Monterey - ECPv6.15.18//NONSGML v1.0//EN
CALSCALE:GREGORIAN
METHOD:PUBLISH
X-ORIGINAL-URL:https://cypressbritish.com
X-WR-CALDESC:Events for Cypress British Car Club of Monterey
REFRESH-INTERVAL;VALUE=DURATION:PT1H
X-Robots-Tag:noindex
X-PUBLISHED-TTL:PT1H
BEGIN:VTIMEZONE
TZID:America/Los_Angeles
BEGIN:DAYLIGHT
TZOFFSETFROM:-0800
TZOFFSETTO:-0700
TZNAME:PDT
DTSTART:20240310T100000
END:DAYLIGHT
BEGIN:STANDARD
TZOFFSETFROM:-0700
TZOFFSETTO:-0800
TZNAME:PST
DTSTART:20241103T090000
END:STANDARD
BEGIN:DAYLIGHT
TZOFFSETFROM:-0800
TZOFFSETTO:-0700
TZNAME:PDT
DTSTART:20250309T100000
END:DAYLIGHT
BEGIN:STANDARD
TZOFFSETFROM:-0700
TZOFFSETTO:-0800
TZNAME:PST
DTSTART:20251102T090000
END:STANDARD
BEGIN:DAYLIGHT
TZOFFSETFROM:-0800
TZOFFSETTO:-0700
TZNAME:PDT
DTSTART:20260308T100000
END:DAYLIGHT
BEGIN:STANDARD
TZOFFSETFROM:-0700
TZOFFSETTO:-0800
TZNAME:PST
DTSTART:20261101T090000
END:STANDARD
BEGIN:DAYLIGHT
TZOFFSETFROM:-0800
TZOFFSETTO:-0700
TZNAME:PDT
DTSTART:20270314T100000
END:DAYLIGHT
BEGIN:STANDARD
TZOFFSETFROM:-0700
TZOFFSETTO:-0800
TZNAME:PST
DTSTART:20271107T090000
END:STANDARD
END:VTIMEZONE
BEGIN:VEVENT
DTSTART;TZID=America/Los_Angeles:20260420T180000
DTEND;TZID=America/Los_Angeles:20260420T200000
DTSTAMP:20260423T120736
CREATED:20240115T184432Z
LAST-MODIFIED:20260119T200609Z
UID:3409-1776708000-1776715200@cypressbritish.com
SUMMARY:CBCCoM Meeting
DESCRIPTION:Our April meeting will be back at the London Bridge Pub  \nPlease enable JavaScript in your browser to complete this form.Name *FirstLastEmail *PhoneType of Meeting I will be attending *Membership MeetingCBCCoM Event/DriveName of Meeting/Event *Date / TimeDateTimeAre you attending? *YesNoMaybeAre you bringing a guest?YesNoGuest NameFirstLastComment or MessageSubmit  \n 
URL:https://cypressbritish.com/event/cbccom-meeting-with-a-pre-drive-tbd/
LOCATION:Kellogg House\, 4096 Sunset Ln.\, Pebble Beach\, CA\, 93953
CATEGORIES:Club Meetings,Driving Trip
ATTACH;FMTTYPE=image/png:https://cypressbritish.com/wp-content/uploads/2023/08/London-Bridge-Pub-Logo.png
ORGANIZER;CN="Steve Kellogg":MAILTO:president@cypressbritish.com
END:VEVENT
BEGIN:VEVENT
DTSTART;TZID=America/Los_Angeles:20260320T093000
DTEND;TZID=America/Los_Angeles:20260320T140000
DTSTAMP:20260423T120736
CREATED:20240115T180613Z
LAST-MODIFIED:20260222T175156Z
UID:3395-1773999000-1774015200@cypressbritish.com
SUMMARY:CBCCoM Drive to Big Sur - New Date
DESCRIPTION:Resceduled from last year’s Rainout  \nWagon Master: Marie Wiens\n  \nOur last drive of the 2025 season was to be be November 15th. We would have driven down Hwy 1 to the turnaround and then back up to Fernwood Resort\, at 47200 Hwy 1\, Big Sur.\n \n \nAs usual we will depart from Starbucks in the Crossroads. The departure time will be 10:00am. Meet up at 9:30am. \n \nThe schedule for the day is:\n \n10:00 am departure from Starbucks with a stop at the Turn Around for pictures. We’ll then drive back to Julie Pfeiffer Burns State Park. You can visit  the restroom and/or take the amazing hike out to the Falls. The hike is not long and is easy.m (Now that Highway 1 is open\, we may go a little further)\n \nThe plan is to depart the park around 11:20 – 11:30 at the latest. The last stop will be the Fernwood Resort for lunch. They have a diverse menu\, but are known for their amazing pizzas. \n \nAfter lunch\, you may return at your leisure.\n  \n\nThis is one of my favorites and weather permitting the views are amazing. I look forward to seeing you then. \n \nMarie\n\n  \nCBCCoM Meeting/Event RSVPPlease enable JavaScript in your browser to complete this form.Name *FirstLastEmail *PhoneType of Meeting I will be attending *Membership MeetingCBCCoM Event/DriveName of Meeting/Event *Date / TimeDateTimeAre you attending? *YesNoMaybeAre you bringing a guest?YesNoGuest NameFirstLastComment or MessageSubmit
URL:https://cypressbritish.com/event/cbccom-drive-to-big-sur/
LOCATION:Starbucks at the Carmel Crossroads\, 3650 Rio Rd\, Carmel-By-The-Sea\, CA\, 93923
CATEGORIES:Driving Trip
ATTACH;FMTTYPE=image/jpeg:https://cypressbritish.com/wp-content/uploads/2024/02/JP-State-Park-scaled.jpeg
ORGANIZER;CN="Marie Wiens":MAILTO:mariewiens@gmail.com
END:VEVENT
BEGIN:VEVENT
DTSTART;TZID=America/Los_Angeles:20260316T180000
DTEND;TZID=America/Los_Angeles:20260316T200000
DTSTAMP:20260423T120736
CREATED:20240115T174127Z
LAST-MODIFIED:20260119T195310Z
UID:3390-1773684000-1773691200@cypressbritish.com
SUMMARY:CBCCoM Meeting
DESCRIPTION:  \nThe Meeting will start at 6:00 pm. \nPlease enable JavaScript in your browser to complete this form.Name *FirstLastEmail *PhoneType of Meeting I will be attending *Membership MeetingCBCCoM Event/DriveName of Meeting/Event *Date / TimeDateTimeAre you attending? *YesNoMaybeAre you bringing a guest?YesNoGuest NameFirstLastComment or MessageSubmit
URL:https://cypressbritish.com/event/cbccom-meeting/
LOCATION:London Bridge Pub\, 256 Figueroa St\, Wharf #2\, Monterey\, CA\, 93940
CATEGORIES:Club Meetings,Driving Trip
ATTACH;FMTTYPE=image/png:https://cypressbritish.com/wp-content/uploads/2023/08/London-Bridge-Pub-Logo.png
ORGANIZER;CN="Steve Kellogg":MAILTO:president@cypressbritish.com
END:VEVENT
BEGIN:VEVENT
DTSTART;TZID=America/Los_Angeles:20260220T100000
DTEND;TZID=America/Los_Angeles:20260220T160000
DTSTAMP:20260423T120736
CREATED:20260119T201701Z
LAST-MODIFIED:20260201T161533Z
UID:4737-1771581600-1771603200@cypressbritish.com
SUMMARY:North Monterey County Drive to Seascape
DESCRIPTION:This fun club event is an approximately a 105 minute drive in 2 legs with a rest stop at Elkhorn Slough visitor center en route. \nLunch\, a choice of three dishes\, will be provided at Seascape’s Sanderling Restaurant which overlooks the Pacific\, for a fixed price including tax and service of $30 per person payable to the club please on signing up for the drive. \nSeascape have volunteered dedicated parking for the club on arrival and a dedicated seating area in the restaurant. \nLunch choices available will be: \n1 Sanderling’s Hamburg\n2 Fish and Chips\n3 Chicken Ceaser Salad \nClick Here to make and pay for your lunch selection \nBeverages of your choice can be ordered on site\, paying staff directly. \nHope you can join us at the drive’s assembly point\, Chili’s car park 1349 Canyon Del Rey by 10.00 20 Feb 2026 \nSeascape Resort Directions Feb 2026 \nFor those who live in Salinas area or further away perhaps they would prefer to avoid the dog’s leg down 68 to the start point and meet the drive at Elkhorn Slough instead.  \nPlease enable JavaScript in your browser to complete this form.Name *FirstLastEmail *PhoneType of Meeting I will be attending *Membership MeetingCBCCoM Event/DriveName of Meeting/Event *Date / TimeDateTimeAre you attending? *YesNoMaybeAre you bringing a guest?YesNoGuest NameFirstLastComment or MessageSubmit
URL:https://cypressbritish.com/event/north-monterey-county-drive-to-seascape/
LOCATION:Seascape Resort\, One Seascape Resort Drive\, Aptos\, CA\, 95003
CATEGORIES:Driving Trip
ATTACH;FMTTYPE=image/png:https://cypressbritish.com/wp-content/uploads/2026/01/Seascape-Resort-Logo.png
ORGANIZER;CN="Bill and Colette Thatcher":MAILTO:bill_thatcher@yahoo.com
END:VEVENT
BEGIN:VEVENT
DTSTART;VALUE=DATE:20251022
DTEND;VALUE=DATE:20251025
DTSTAMP:20260423T120736
CREATED:20250119T204120Z
LAST-MODIFIED:20250923T162531Z
UID:3830-1761091200-1761350399@cypressbritish.com
SUMMARY:EVENT OF THE YEAR! - Paso Robles and Sensorio Overnight Trip Getaway Drive and Hotel Resort Stay
DESCRIPTION:Travel South to Paso Robles and stay at the Allegretto Vineyard Resort\, have a great dinner in the hotel’s internal plaza \n \nDrive through the Paso Hills surrounded by vineyards to lunch at Calcareous winery with its’ wonderful views the next day.  \n \nThat evening see the amazing Sensorio Light Show on the last night of the trip. \nHopefully Highway 1 from Cambria to Monterey will be open for our route back! \nThis event will be  held in conjunction with the Pebble Beach Sports Car Club. \n \nTentative Itinerary: \nWednesday – October 22 – Leave the Monterey area in 2 caravans – First Caravan to be led by Steve Kellogg – River Road Jolon Road to Naciemento Reservoir for Lunch and then to the Allegretto Hotel. Drive approximately 4 – 6 hours. \nSecond Caravan – Led by Vicky Kellogg – Monterey to Allegretto Hotel via 101.  2 hours.  \nA special room rate ($239) has been set up for Cypress British Car Club of Monterey members and the PBSCC. \nClick here to make your Room Reservations at the Allegretto Vineyard Resort. \nIf for some reason the link does not open properly\, please call the resort at (805) 369-2500 and you can make your reservation over the phone.  Be sure and mention that you are with the Cypress British Car Club of Monterey.  \nIf you should run into problems or need help in anything at the hotel\, contact Jessica Hilario (Formerly Rodriguez)\, Sales Coordinator\, at Jhilario@allegrettoresort.com \nWelcome Dinner Buffet at the Allegretto Hotel (Cocktails and Wine are not included in the price of this event) \nDinner is $125 per person \nClick Here to Pay for Dinner(s) \nThursday – October 23 – Drive through the Paso Robles vineyards countryside and wineries with a stop for Lunch at the Calcareous winery. Calcareous Wines Tasting Room \nClick Here to Pay for Calcareous Winery Box Lunch(s) \nClick Here to Pay for Calcareous Winery Vegetarian Box Lunch(s) \nLunch Box is $30 per person \nAfternoon – You’re on your own to visit Paso Robles or use the Allegretto Resort facilities. \nEvening – All Access to the Sensorio Light Show. (link for informational information  only – book your tickets below)– Dinner at the site with dinner options on the site with many food venues to choose from.many food venues to choose from. \nClick Here to Pay for Sensorio All Access Pass Ticket(s) \nSensorio Pass is $65 per person \nIf you do not want to use PayPal\, you can send your check payable to \nCypress British Car Club of Monterey\nPO Box 1345 Monterey\, CA 94942\n  \nFriday – October 24 – Return Home via the Coast (hopefully) If the coast is not open\, perhaps we’ll check out another route (Naciemento- Ferguson) that may be adventurous to some. \nCoordinators – Vicky Kellogg and Colette Thatcher \nAn Itinerary Booklet will be provided to all attendees\, Wednesday morning prior to heading south. \n  \n  \n  \n  \n  \n 
URL:https://cypressbritish.com/event/event-of-the-year-paso-robles-and-sensorio-overnight-trip/
LOCATION:Sensorio\, 4380 CA-46\, Paso Robles\, CA\, 93446
CATEGORIES:Driving Trip
ATTACH;FMTTYPE=image/png:https://cypressbritish.com/wp-content/uploads/2025/01/Sensorio.png
ORGANIZER;CN="Vicky Kellogg":MAILTO:president@cypressbritish.com
END:VEVENT
BEGIN:VEVENT
DTSTART;VALUE=DATE:20250810
DTEND;VALUE=DATE:20250812
DTSTAMP:20260423T120736
CREATED:20241209T152747Z
LAST-MODIFIED:20250519T201457Z
UID:3737-1754784000-1754956799@cypressbritish.com
SUMMARY:Pebble Beach British Experience and Monterey British Car Show
DESCRIPTION:The second annual Monterey British is coming up Monday\, August 11th\, 2025\, at the same location in beautiful Carmel Valley. Registration will open Saturday\, February 1st through www.jags.org \n  \nThis year we will be asking for your mailing address so we can send your field pass (a static cling decal you’ll attach to your windshield).  We won’t be sharing that information with anyone as I hate spam just as much\, if not more than you!  \n  \nSome of the fun you can look forward to will be awards for each marque present with a category of at least four cars. Also\, Monday is a dark day at Laguna Seca so we are hoping to have a special visit with some of the Del Monte Trophy Racers. Additionally\, we are working with Jerome’s Market for a special pick up a picnic to go option. Stay tuned for more information and fun announcements as we get closer.  \n  \nSunday\, August 10th we are offering a special day in Pebble Beach with rolling photos and lunch at a private\, special location.  Registration also opens February 1st for the “Pebble Beach British” through www.jags.org \n \nWe are extremely excited to be returning British events to Car Week and look forward to celebrating with you!  \n  \nAs always\, please feel free to reach out at any time with any questions and yes\, please tell all your friends about our British weekend\, but only after you’ve claimed your spot first 😉  \n 
URL:https://cypressbritish.com/event/pebble-beach-british-experience-and-british-car-show/
LOCATION:Carmel Valley Comunity Park\, 29 Ford Road\, Carmel Valley\, CA\, 93924
CATEGORIES:Car Show,Driving Trip
ATTACH;FMTTYPE=image/jpeg:https://cypressbritish.com/wp-content/uploads/2024/12/August-25-British.jpg
ORGANIZER;CN="Jaguar Associate Group Northern CA":MAILTO:info@jags.org
END:VEVENT
BEGIN:VEVENT
DTSTART;VALUE=DATE:20250716
DTEND;VALUE=DATE:20250717
DTSTAMP:20260423T120736
CREATED:20250119T193905Z
LAST-MODIFIED:20250716T004521Z
UID:3818-1752624000-1752710399@cypressbritish.com
SUMMARY:Hooky Drive to Alice's Restaurant for Lunch and Back
DESCRIPTION:We’re trying something new this year. \nA Driving Trip in the middle of the week that will take us all day to complete. \nStarting at 9:00 am at the Starbucks in Watsonville off Highway One – Riverside Road. \n\n73 Lee Rd\nWatsonville\, CA 95076\n\n \nwe’ll head up tHighway 1\, make our way over to Highway 9\, hit Highway 35. We’ll stop at Alice’s Restaurant for Lunch and afterwards head down to La Honda and then back on Highway 1 to home. \nWagon masters are Kellogg\, Saunders and McCroskey. \nPlease enable JavaScript in your browser to complete this form.Name *FirstLastEmail *PhoneType of Meeting I will be attending *Membership MeetingCBCCoM Event/DriveName of Meeting/Event *Date / TimeDateTimeAre you attending? *YesNoMaybeAre you bringing a guest?YesNoGuest NameFirstLastComment or MessageSubmit  ‘s Restaurant
URL:https://cypressbritish.com/event/hooky-drive-to-alices-restaurant-for-lunch-and-back/
LOCATION:Alice Restaurant\, 17288 Skyline Blvd\, Woodside\, CA\, 94062
CATEGORIES:Driving Trip
ATTACH;FMTTYPE=image/jpeg:https://cypressbritish.com/wp-content/uploads/2025/01/Alices-Restaurant.jpeg
END:VEVENT
END:VCALENDAR