BEGIN:VCALENDAR
VERSION:2.0
PRODID:-//Cypress British Car Club of Monterey - ECPv6.15.18//NONSGML v1.0//EN
CALSCALE:GREGORIAN
METHOD:PUBLISH
X-WR-CALNAME:Cypress British Car Club of Monterey
X-ORIGINAL-URL:https://cypressbritish.com
X-WR-CALDESC:Events for Cypress British Car Club of Monterey
REFRESH-INTERVAL;VALUE=DURATION:PT1H
X-Robots-Tag:noindex
X-PUBLISHED-TTL:PT1H
BEGIN:VTIMEZONE
TZID:America/Los_Angeles
BEGIN:DAYLIGHT
TZOFFSETFROM:-0800
TZOFFSETTO:-0700
TZNAME:PDT
DTSTART:20250309T100000
END:DAYLIGHT
BEGIN:STANDARD
TZOFFSETFROM:-0700
TZOFFSETTO:-0800
TZNAME:PST
DTSTART:20251102T090000
END:STANDARD
BEGIN:DAYLIGHT
TZOFFSETFROM:-0800
TZOFFSETTO:-0700
TZNAME:PDT
DTSTART:20260308T100000
END:DAYLIGHT
BEGIN:STANDARD
TZOFFSETFROM:-0700
TZOFFSETTO:-0800
TZNAME:PST
DTSTART:20261101T090000
END:STANDARD
BEGIN:DAYLIGHT
TZOFFSETFROM:-0800
TZOFFSETTO:-0700
TZNAME:PDT
DTSTART:20270314T100000
END:DAYLIGHT
BEGIN:STANDARD
TZOFFSETFROM:-0700
TZOFFSETTO:-0800
TZNAME:PST
DTSTART:20271107T090000
END:STANDARD
BEGIN:DAYLIGHT
TZOFFSETFROM:-0800
TZOFFSETTO:-0700
TZNAME:PDT
DTSTART:20280312T100000
END:DAYLIGHT
BEGIN:STANDARD
TZOFFSETFROM:-0700
TZOFFSETTO:-0800
TZNAME:PST
DTSTART:20281105T090000
END:STANDARD
END:VTIMEZONE
BEGIN:VEVENT
DTSTART;TZID=America/Los_Angeles:20260722T090000
DTEND;TZID=America/Los_Angeles:20260722T160000
DTSTAMP:20260423T170040
CREATED:20260123T161556Z
LAST-MODIFIED:20260123T161556Z
UID:4766-1784710800-1784736000@cypressbritish.com
SUMMARY:Uvas Reservoir Drive
DESCRIPTION:Where – Leave from the Saunders house and travel the back roads to the reservoirs around Morgan Hill. Stop to have lunch in Morgan Hill at a place to be determined \nTime – 9:00 – 4:00 pm prepare to drive the whole day. \nWagon masters – Kellogg and Saunders \nPlease enable JavaScript in your browser to complete this form.Name *FirstLastEmail *PhoneType of Meeting I will be attending *Membership MeetingCBCCoM Event/DriveName of Meeting/Event *Date / TimeDateTimeAre you attending? *YesNoMaybeAre you bringing a guest?YesNoGuest NameFirstLastComment or MessageSubmit
URL:https://cypressbritish.com/event/uvas-reservoir-drive/
LOCATION:Saunder’s House\, 19015 Buena Lane\, Salinas\, CA\, 93908
ATTACH;FMTTYPE=image/jpeg:https://cypressbritish.com/wp-content/uploads/2026/01/Uvas-Resevoir.jpeg
ORGANIZER;CN="Fred and Lorie Saunders":MAILTO:sculptureworks@sbcglobal.net
END:VEVENT
BEGIN:VEVENT
DTSTART;TZID=America/Los_Angeles:20260810T110000
DTEND;TZID=America/Los_Angeles:20260810T140000
DTSTAMP:20260423T170040
CREATED:20260123T162326Z
LAST-MODIFIED:20260123T163200Z
UID:4770-1786359600-1786370400@cypressbritish.com
SUMMARY:British Car Show
DESCRIPTION:Monterey British Car Show is a premier event dedicated to celebrating the rich heritage of British automobiles. This exciting showcase features an array of stunning cars that highlight engineering excellence and design. Our mission is to unite car enthusiasts and foster a community passionate about celebrating British automotive culture. Join us for a memorable experience filled with breathtaking displays.\n 
URL:https://cypressbritish.com/event/british-car-show/
LOCATION:Carmel Valley Comunity Park\, 29 Ford Road\, Carmel Valley\, CA\, 93924
CATEGORIES:Car Show
ATTACH;FMTTYPE=image/jpeg:https://cypressbritish.com/wp-content/uploads/2026/01/Monterey-British-Show-Logo.jpeg
ORGANIZER;CN="Kristan Neubecker":MAILTO:info@montereybritish.com
END:VEVENT
BEGIN:VEVENT
DTSTART;VALUE=DATE:20260811
DTEND;VALUE=DATE:20260812
DTSTAMP:20260423T170040
CREATED:20260123T162951Z
LAST-MODIFIED:20260123T162951Z
UID:4773-1786406400-1786492799@cypressbritish.com
SUMMARY:Concours for a Cause
DESCRIPTION:Where Automotive Heritage Meets Community\n\nConcours for a Cause is a thoughtfully curated celebration of classic automobiles\, local culture\, and charitable giving.\nSet along Ocean Avenue in the heart of Carmel-by-the-Sea\, the event brings together vintage cars\, cultural experiences\, and local artists during Monterey Car Week — creating a vibrant\, walkable experience for collectors\, residents\, and visitors alike.\nHeld on Tuesday\, August 12th\, Concours for a Cause is free and open to the public\, inviting the community to gather\, explore\, and support local nonprofits through an unforgettable day of automotive excellence and shared purpose.
URL:https://cypressbritish.com/event/concours-for-a-cause/
LOCATION:Carmel\, CA\, Carmel\, CA
CATEGORIES:Car Show
ATTACH;FMTTYPE=image/png:https://cypressbritish.com/wp-content/uploads/2026/01/Concours-for-a-Cause-Logo.png
END:VEVENT
BEGIN:VEVENT
DTSTART;VALUE=DATE:20260812
DTEND;VALUE=DATE:20260813
DTSTAMP:20260423T170040
CREATED:20260123T163728Z
LAST-MODIFIED:20260123T163919Z
UID:4780-1786492800-1786579199@cypressbritish.com
SUMMARY:Little Car Show
DESCRIPTION:The Little Car Show showcases all marques from all countries. Expecting more than 100 vehicles 25 years and older. From micro\, mini and arcane vehicles with no greater than 1\,601cc displacement engines or electric powered vehicles\, you’ll enjoy this special show. \nHave a small car to show? Entries are accepted on a first come\, first served basis. Registration will be closed when 100 vehicles have registered. “Drop in” entries will only be processed on show day if space is available! We also have a “Special Interest” category and may allow limited production and custom vehicles that meet the general rules and intent of the show. \nThe show in Downtown Pacific Grove will be followed by a tour/parade around the city’s scenic waterfront and beaches beginning at Lover’s Point and following Ocean View Boulevard to Asilomar. \n“The Little Car Show” benefits the P.G. Public Library\, P.G. Youth Center and the Veterans’ Transition Center. \nAdmission is Free
URL:https://cypressbritish.com/event/little-car-show/
LOCATION:Pacific Grove\, Pine and Alder\, Pacific Grove\, CA
CATEGORIES:Car Show
ATTACH;FMTTYPE=image/png:https://cypressbritish.com/wp-content/uploads/2026/01/Little-Car-Show-Logo.png
END:VEVENT
BEGIN:VEVENT
DTSTART;TZID=America/Los_Angeles:20260921T180000
DTEND;TZID=America/Los_Angeles:20260921T200000
DTSTAMP:20260423T170040
CREATED:20260119T200151Z
LAST-MODIFIED:20260119T200151Z
UID:4732-1790013600-1790020800@cypressbritish.com
SUMMARY:CBCC0M Meeting
DESCRIPTION:At our favorite venue – The London Bridge Pub
URL:https://cypressbritish.com/event/cbcc0m-meeting/
LOCATION:London Bridge Pub\, 256 Figueroa St\, Wharf #2\, Monterey\, CA\, 93940
ATTACH;FMTTYPE=image/png:https://cypressbritish.com/wp-content/uploads/2023/08/London-Bridge-Pub-Logo.png
END:VEVENT
BEGIN:VEVENT
DTSTART;VALUE=DATE:20260923
DTEND;VALUE=DATE:20260925
DTSTAMP:20260423T170040
CREATED:20260123T164635Z
LAST-MODIFIED:20260123T164635Z
UID:4784-1790121600-1790294399@cypressbritish.com
SUMMARY:Overnighter to Half Moon Bay
DESCRIPTION:Where – Drive up the coast to Half Moon Bay and have dinner at the Cameron Inn and come back the next day. \nTime – 9:00 \nWhat – Start out in Monterey and head north and back \nWagonmaster – Vicky Kellogg
URL:https://cypressbritish.com/event/overnighter-to-half-moon-bay/
LOCATION:CA
CATEGORIES:Driving Trip
ATTACH;FMTTYPE=image/jpeg:https://cypressbritish.com/wp-content/uploads/2026/01/Cameron-Inn-.jpeg
ORGANIZER;CN="Vicky Kellogg":MAILTO:president@cypressbritish.com
END:VEVENT
BEGIN:VEVENT
DTSTART;TZID=America/Los_Angeles:20261019T180000
DTEND;TZID=America/Los_Angeles:20261019T200000
DTSTAMP:20260423T170040
CREATED:20240130T230137Z
LAST-MODIFIED:20260119T200013Z
UID:3503-1792432800-1792440000@cypressbritish.com
SUMMARY:CBCCoM Club Meeting
DESCRIPTION:Our last Pub meeting of the fall will be held on Monday \, October 19\, at the London Bridge Pub at 6:00 pm. \nImportant meeting to attend – Board Officer Nominations\n \nCBCCoM Meeting/Event RSVPPlease enable JavaScript in your browser to complete this form.Name *FirstLastEmail *PhoneType of Meeting I will be attending *Membership MeetingCBCCoM Event/DriveName of Meeting/Event *Date / TimeDateTimeAre you attending? *YesNoMaybeAre you bringing a guest?YesNoGuest NameFirstLastComment or MessageSubmit
URL:https://cypressbritish.com/event/cbccom-club-meeting-and-pre-drive-tbd/
LOCATION:London Bridge Pub\, 256 Figueroa St\, Wharf #2\, Monterey\, CA\, 93940
CATEGORIES:Club Meetings
ATTACH;FMTTYPE=image/png:https://cypressbritish.com/wp-content/uploads/2023/08/London-Bridge-Pub-Logo.png
ORGANIZER;CN="Steve Kellogg":MAILTO:president@cypressbritish.com
END:VEVENT
BEGIN:VEVENT
DTSTART;VALUE=DATE:20261020
DTEND;VALUE=DATE:20261023
DTSTAMP:20260423T170040
CREATED:20260123T202317Z
LAST-MODIFIED:20260123T203049Z
UID:4787-1792454400-1792713599@cypressbritish.com
SUMMARY:EVENT OF THE YEAR - Drive to the Gold Country
DESCRIPTION:This time we are traveling East to the Gold Country  for 2 night stay with a day trip to Yosemite Park.  \nDetails to come. – All we know is that we’ll leave from the London Bridge Pub parking lot.  \nWagone Masters are The Kellogg\, Marie Wiens and Kristan Neubecker \nPlease enable JavaScript in your browser to complete this form.Name *FirstLastEmail *PhoneType of Meeting I will be attending *Membership MeetingCBCCoM Event/DriveName of Meeting/Event *Date / TimeDateTimeAre you attending? *YesNoMaybeAre you bringing a guest?YesNoGuest NameFirstLastComment or MessageSubmit
URL:https://cypressbritish.com/event/event-of-the-year-drive-to-the-gold-country/
LOCATION:London Bridge Pub\, 256 Figueroa St\, Wharf #2\, Monterey\, CA\, 93940
CATEGORIES:Driving Trip
ATTACH;FMTTYPE=image/jpeg:https://cypressbritish.com/wp-content/uploads/2026/01/Gold-Countyry-Logo.jpeg
ORGANIZER;CN="Steve Kellogg":MAILTO:president@cypressbritish.com
END:VEVENT
BEGIN:VEVENT
DTSTART;TZID=America/Los_Angeles:20261112T093000
DTEND;TZID=America/Los_Angeles:20261112T150000
DTSTAMP:20260423T170040
CREATED:20250119T202438Z
LAST-MODIFIED:20260123T202528Z
UID:3823-1794475800-1794495600@cypressbritish.com
SUMMARY:Back to The Freedom Market
DESCRIPTION:  \nFrom Wagonmaster – Tom Dunham \n  \nWe will meet at the Cross Roads Starbucks\nat  9:30am and leave at 10am \nThe drive will traverse many of the back roads\, in and around Monterey\, Watsonville\, Freedom\, Amesti\, Aptos Hills\, etc.   We will see the hills and redwoods\, the coast\, and the vast expanses of farm land\, Elk Horn Slough\, as well as the shore line along La Selva to Pajaro.  There will be a stop at Gizdich Ranch and Freedom Meat Locker for pie and food.\nDuration: I expect about 4 hours including stops\, from driving it myself.\nOther notes: People will have an opportunity to split off at La Selva or the State beachs such as Manresa if they’d like.   \nThe attached Route Instructions have all the mileage route\, AND a menu for Freedom Meat Locker –  \nBackroads Bay Tour 2025 \nPlease enable JavaScript in your browser to complete this form.Name *FirstLastEmail *PhoneType of Meeting I will be attending *Membership MeetingCBCCoM Event/DriveName of Meeting/Event *Date / TimeDateTimeAre you attending? *YesNoMaybeAre you bringing a guest?YesNoGuest NameFirstLastComment or MessageSubmit
URL:https://cypressbritish.com/event/north-monterey-county-drive/
LOCATION:Starbucks at the Carmel Crossroads\, 3650 Rio Rd\, Carmel-By-The-Sea\, CA\, 93923
CATEGORIES:Driving Trip
ATTACH;FMTTYPE=image/png:https://cypressbritish.com/wp-content/uploads/2025/01/Elkhorn-Slough.png
END:VEVENT
BEGIN:VEVENT
DTSTART;TZID=America/Los_Angeles:20261116T180000
DTEND;TZID=America/Los_Angeles:20261116T200000
DTSTAMP:20260423T170040
CREATED:20250119T205210Z
LAST-MODIFIED:20260119T200315Z
UID:3836-1794852000-1794859200@cypressbritish.com
SUMMARY:CBCCoM Club Meeting
DESCRIPTION:This is the meeting where you can elect Board Officers for 2026. \nIf you cannot make it to the meeting\, you can vote via the online ballot below. Each Primary and Associate Member can submit a vote. Please make sure your vote is submitted by 8:00 pm\, Monday\, November 16\, 2026 \nPlease enable JavaScript in your browser to complete this form.CBCCoM Primary  or Associate Member Name *FirstLastEmail *CBCCoM Board PresidentSteven KelloggCBCCoM Board President Write in VoteCBCCoM Board Vice PresidentKristan NeubeckerCBCCoM Board Vice President Write in VoteCBCCoM Board TreasurerBarry JonesCBCCoM Board Treasurer Write in VoteCBCCoM Board SecretaryDavid LangleyCBCCoM Board Secretary Write in VoteSubmit  \n  \nPlease enable JavaScript in your browser to complete this form.Name *FirstLastEmail *PhoneType of Meeting I will be attending *Membership MeetingCBCCoM Event/DriveName of Meeting/Event *Date / TimeDateTimeAre you attending? *YesNoMaybeAre you bringing a guest?YesNoGuest NameFirstLastComment or MessageSubmit
URL:https://cypressbritish.com/event/cbccom-club-meeting-2/
LOCATION:London Bridge Pub\, 256 Figueroa St\, Wharf #2\, Monterey\, CA\, 93940
CATEGORIES:Club Meetings
ATTACH;FMTTYPE=image/png:https://cypressbritish.com/wp-content/uploads/2023/08/London-Bridge-Pub-Logo.png
END:VEVENT
BEGIN:VEVENT
DTSTART;TZID=America/Los_Angeles:20261216T120000
DTEND;TZID=America/Los_Angeles:20261216T150000
DTSTAMP:20260423T170040
CREATED:20231115T160717Z
LAST-MODIFIED:20260123T202937Z
UID:3344-1797422400-1797433200@cypressbritish.com
SUMMARY:Our December 16th Holiday Celebration Lunch
DESCRIPTION:Where – Site TBD – Possible Venues and members to research: \nPebble Beach Club – Sue Billat \nWoody’s at Del Mesa – Debbie Hutchings \nNew Seaside Marriott Courtyard and Residence Inn – Fred and Laurie Saunders \nAsilomar Conference Center – Brenda Jones \nTime – TBD \nCoordinators – Kelloggs\, Jones and Wiens \nPlease enable JavaScript in your browser to complete this form.Name *FirstLastEmail *PhoneType of Meeting I will be attending *Membership MeetingCBCCoM Event/DriveName of Meeting/Event *Date / TimeDateTimeAre you attending? *YesNoMaybeAre you bringing a guest?YesNoGuest NameFirstLastComment or MessageSubmit
URL:https://cypressbritish.com/event/cypress-british-car-club-of-monterey-holiday-celebration/
LOCATION:CA
CATEGORIES:Club Meetings
ATTACH;FMTTYPE=image/png:https://cypressbritish.com/wp-content/uploads/2023/11/AF4B8000-98F0-4D90-8E7D-876CAE932177.png
ORGANIZER;CN="Brenda and Barry Jones":MAILTO:brendajonessfo@aol.com
END:VEVENT
BEGIN:VEVENT
DTSTART;TZID=America/Los_Angeles:20270109T100000
DTEND;TZID=America/Los_Angeles:20270109T120000
DTSTAMP:20260423T170040
CREATED:20231017T154229Z
LAST-MODIFIED:20260119T200432Z
UID:3277-1799488800-1799496000@cypressbritish.com
SUMMARY:CBCCoM 2027 Planning Meeting
DESCRIPTION:We will have our 2027 Planning Meeting at the Kellogg House in Pebble Beach. \nWe will plan the upcoming year’s Drives\, Tech Sessions\, Activities\, Pot Lucks and monthly meetings \nWe want your input! \n4096 Sunset Ln. \nPebble Beach\, CA 93953 \nPlease RSVP so we know how many donuts to order! \nPlease enable JavaScript in your browser to complete this form.Name *FirstLastEmail *PhoneType of Meeting I will be attending *Membership MeetingCBCCoM Event/DriveName of Meeting/Event *Date / TimeDateTimeAre you attending? *YesNoMaybeAre you bringing a guest?YesNoGuest NameFirstLastComment or MessageSubmit
URL:https://cypressbritish.com/event/cbccom-2024-planning-meeting/
LOCATION:Kellogg House\, 4096 Sunset Ln.\, Pebble Beach\, CA\, 93953
CATEGORIES:Club Meetings
ATTACH;FMTTYPE=image/jpeg:https://cypressbritish.com/wp-content/uploads/2023/10/IMG_1900-scaled.jpeg
ORGANIZER;CN="Steve Kellogg":MAILTO:president@cypressbritish.com
END:VEVENT
END:VCALENDAR