BEGIN:VCALENDAR
VERSION:2.0
PRODID:-//Cypress British Car Club of Monterey - ECPv6.15.18//NONSGML v1.0//EN
CALSCALE:GREGORIAN
METHOD:PUBLISH
X-ORIGINAL-URL:https://cypressbritish.com
X-WR-CALDESC:Events for Cypress British Car Club of Monterey
REFRESH-INTERVAL;VALUE=DURATION:PT1H
X-Robots-Tag:noindex
X-PUBLISHED-TTL:PT1H
BEGIN:VTIMEZONE
TZID:America/Los_Angeles
BEGIN:DAYLIGHT
TZOFFSETFROM:-0800
TZOFFSETTO:-0700
TZNAME:PDT
DTSTART:20240310T100000
END:DAYLIGHT
BEGIN:STANDARD
TZOFFSETFROM:-0700
TZOFFSETTO:-0800
TZNAME:PST
DTSTART:20241103T090000
END:STANDARD
BEGIN:DAYLIGHT
TZOFFSETFROM:-0800
TZOFFSETTO:-0700
TZNAME:PDT
DTSTART:20250309T100000
END:DAYLIGHT
BEGIN:STANDARD
TZOFFSETFROM:-0700
TZOFFSETTO:-0800
TZNAME:PST
DTSTART:20251102T090000
END:STANDARD
BEGIN:DAYLIGHT
TZOFFSETFROM:-0800
TZOFFSETTO:-0700
TZNAME:PDT
DTSTART:20260308T100000
END:DAYLIGHT
BEGIN:STANDARD
TZOFFSETFROM:-0700
TZOFFSETTO:-0800
TZNAME:PST
DTSTART:20261101T090000
END:STANDARD
END:VTIMEZONE
BEGIN:VEVENT
DTSTART;TZID=America/Los_Angeles:20251122T070000
DTEND;TZID=America/Los_Angeles:20251122T100000
DTSTAMP:20260423T165628
CREATED:20250119T205558Z
LAST-MODIFIED:20250119T210019Z
UID:3839-1763794800-1763805600@cypressbritish.com
SUMMARY:Laguna Seca Cars and Coffee
DESCRIPTION:Last one of the Year
URL:https://cypressbritish.com/event/laguna-seca-cars-and-coffee-3/
LOCATION:WeatherTech Raceway Laguna Seca\, 1021 Monterey-Salinas Highway\, Salinas\, CA\, 93908
CATEGORIES:Cars and Coffee
ATTACH;FMTTYPE=image/png:https://cypressbritish.com/wp-content/uploads/2023/02/Screenshot-2023-02-25-at-12.01.43-PM.png
END:VEVENT
END:VCALENDAR